BEGIN:VCALENDAR
VERSION:2.0
PRODID:-//Heideranch Pferde Pension Saloon - ECPv6.15.20//NONSGML v1.0//EN
CALSCALE:GREGORIAN
METHOD:PUBLISH
X-ORIGINAL-URL:https://heideranch.de
X-WR-CALDESC:Veranstaltungen für Heideranch Pferde Pension Saloon
REFRESH-INTERVAL;VALUE=DURATION:PT1H
X-Robots-Tag:noindex
X-PUBLISHED-TTL:PT1H
BEGIN:VTIMEZONE
TZID:Europe/Berlin
BEGIN:DAYLIGHT
TZOFFSETFROM:+0100
TZOFFSETTO:+0200
TZNAME:CEST
DTSTART:20280326T010000
END:DAYLIGHT
BEGIN:STANDARD
TZOFFSETFROM:+0200
TZOFFSETTO:+0100
TZNAME:CET
DTSTART:20281029T010000
END:STANDARD
BEGIN:DAYLIGHT
TZOFFSETFROM:+0100
TZOFFSETTO:+0200
TZNAME:CEST
DTSTART:20290325T010000
END:DAYLIGHT
BEGIN:STANDARD
TZOFFSETFROM:+0200
TZOFFSETTO:+0100
TZNAME:CET
DTSTART:20291028T010000
END:STANDARD
BEGIN:DAYLIGHT
TZOFFSETFROM:+0100
TZOFFSETTO:+0200
TZNAME:CEST
DTSTART:20300331T010000
END:DAYLIGHT
BEGIN:STANDARD
TZOFFSETFROM:+0200
TZOFFSETTO:+0100
TZNAME:CET
DTSTART:20301027T010000
END:STANDARD
END:VTIMEZONE
BEGIN:VEVENT
DTSTART;TZID=Europe/Berlin:20290901T080000
DTEND;TZID=Europe/Berlin:20290901T233000
DTSTAMP:20260424T151150
CREATED:20230208T082901Z
LAST-MODIFIED:20241021T140216Z
UID:5809-1882944000-1882999800@heideranch.de
SUMMARY:Partyraum "Alter Stall" belegt (HR 0124-24 / Tag der Einschulung)
DESCRIPTION:
URL:https://heideranch.de/event/partyraum-alter-stall-frei-nicht-belegt-tag-der-einschulung-5/
CATEGORIES:Partyraum
END:VEVENT
BEGIN:VEVENT
DTSTART;TZID=Europe/Berlin:20290901T130000
DTEND;TZID=Europe/Berlin:20290901T233000
DTSTAMP:20260424T151150
CREATED:20230208T082611Z
LAST-MODIFIED:20241219T071933Z
UID:5806-1882962000-1882999800@heideranch.de
SUMMARY:Partyraum “Reiterstübchen” belegt (Ant. Sche. HR 0189-24) / Tag der Einschulung !
DESCRIPTION:
URL:https://heideranch.de/event/partyraum-alter-stall-frei-nicht-belegt-tag-der-einschulung-4/
CATEGORIES:Partyraum
END:VEVENT
END:VCALENDAR