BEGIN:VCALENDAR
VERSION:2.0
PRODID:-//Heideranch Pferde Pension Saloon - ECPv6.15.20//NONSGML v1.0//EN
CALSCALE:GREGORIAN
METHOD:PUBLISH
X-ORIGINAL-URL:https://heideranch.de
X-WR-CALDESC:Veranstaltungen für Heideranch Pferde Pension Saloon
REFRESH-INTERVAL;VALUE=DURATION:PT1H
X-Robots-Tag:noindex
X-PUBLISHED-TTL:PT1H
BEGIN:VTIMEZONE
TZID:Europe/Berlin
BEGIN:DAYLIGHT
TZOFFSETFROM:+0100
TZOFFSETTO:+0200
TZNAME:CEST
DTSTART:20270328T010000
END:DAYLIGHT
BEGIN:STANDARD
TZOFFSETFROM:+0200
TZOFFSETTO:+0100
TZNAME:CET
DTSTART:20271031T010000
END:STANDARD
BEGIN:DAYLIGHT
TZOFFSETFROM:+0100
TZOFFSETTO:+0200
TZNAME:CEST
DTSTART:20280326T010000
END:DAYLIGHT
BEGIN:STANDARD
TZOFFSETFROM:+0200
TZOFFSETTO:+0100
TZNAME:CET
DTSTART:20281029T010000
END:STANDARD
BEGIN:DAYLIGHT
TZOFFSETFROM:+0100
TZOFFSETTO:+0200
TZNAME:CEST
DTSTART:20290325T010000
END:DAYLIGHT
BEGIN:STANDARD
TZOFFSETFROM:+0200
TZOFFSETTO:+0100
TZNAME:CET
DTSTART:20291028T010000
END:STANDARD
END:VTIMEZONE
BEGIN:VEVENT
DTSTART;TZID=Europe/Berlin:20280731T080000
DTEND;TZID=Europe/Berlin:20280804T160000
DTSTAMP:20260420T072704
CREATED:20260113T151943Z
LAST-MODIFIED:20260113T151943Z
UID:9832-1848643200-1849017600@heideranch.de
SUMMARY:Ferienspiele auf der Heide Ranch (alle Infos unter Kinderspaß / Ferienspiele\, Anmeldung per Mail erforderlich)
DESCRIPTION:
URL:https://heideranch.de/event/ferienspiele-auf-der-heide-ranch-alle-infos-unter-kinderspass-ferienspiele-anmeldung-per-mail-erforderlich-22/
CATEGORIES:Ferienspiele
END:VEVENT
BEGIN:VEVENT
DTSTART;TZID=Europe/Berlin:20280807T080000
DTEND;TZID=Europe/Berlin:20280811T160000
DTSTAMP:20260420T072704
CREATED:20260113T152019Z
LAST-MODIFIED:20260113T152019Z
UID:9834-1849248000-1849622400@heideranch.de
SUMMARY:Ferienspiele auf der Heide Ranch (alle Infos unter Kinderspaß / Ferienspiele\, Anmeldung per Mail erforderlich)
DESCRIPTION:
URL:https://heideranch.de/event/ferienspiele-auf-der-heide-ranch-alle-infos-unter-kinderspass-ferienspiele-anmeldung-per-mail-erforderlich-23/
CATEGORIES:Ferienspiele
END:VEVENT
BEGIN:VEVENT
DTSTART;TZID=Europe/Berlin:20280814T080000
DTEND;TZID=Europe/Berlin:20280818T160000
DTSTAMP:20260420T072704
CREATED:20260113T152119Z
LAST-MODIFIED:20260113T152119Z
UID:9836-1849852800-1850227200@heideranch.de
SUMMARY:Ferienspiele auf der Heide Ranch (alle Infos unter Kinderspaß / Ferienspiele\, Anmeldung per Mail erforderlich)
DESCRIPTION:
URL:https://heideranch.de/event/ferienspiele-auf-der-heide-ranch-alle-infos-unter-kinderspass-ferienspiele-anmeldung-per-mail-erforderlich-24/
CATEGORIES:Ferienspiele
END:VEVENT
BEGIN:VEVENT
DTSTART;TZID=Europe/Berlin:20280828T080000
DTEND;TZID=Europe/Berlin:20280901T160000
DTSTAMP:20260420T072704
CREATED:20260113T152207Z
LAST-MODIFIED:20260113T152207Z
UID:9838-1851062400-1851436800@heideranch.de
SUMMARY:Ferienspiele auf der Heide Ranch (alle Infos unter Kinderspaß / Ferienspiele\, Anmeldung per Mail erforderlich)
DESCRIPTION:
URL:https://heideranch.de/event/ferienspiele-auf-der-heide-ranch-alle-infos-unter-kinderspass-ferienspiele-anmeldung-per-mail-erforderlich-25/
CATEGORIES:Ferienspiele
END:VEVENT
END:VCALENDAR