BEGIN:VCALENDAR
VERSION:2.0
PRODID:-//Heideranch Pferde Pension Saloon - ECPv6.15.20//NONSGML v1.0//EN
CALSCALE:GREGORIAN
METHOD:PUBLISH
X-WR-CALNAME:Heideranch Pferde Pension Saloon
X-ORIGINAL-URL:https://heideranch.de
X-WR-CALDESC:Veranstaltungen für Heideranch Pferde Pension Saloon
REFRESH-INTERVAL;VALUE=DURATION:PT1H
X-Robots-Tag:noindex
X-PUBLISHED-TTL:PT1H
BEGIN:VTIMEZONE
TZID:Europe/Berlin
BEGIN:DAYLIGHT
TZOFFSETFROM:+0100
TZOFFSETTO:+0200
TZNAME:CEST
DTSTART:20260329T010000
END:DAYLIGHT
BEGIN:STANDARD
TZOFFSETFROM:+0200
TZOFFSETTO:+0100
TZNAME:CET
DTSTART:20261025T010000
END:STANDARD
BEGIN:DAYLIGHT
TZOFFSETFROM:+0100
TZOFFSETTO:+0200
TZNAME:CEST
DTSTART:20270328T010000
END:DAYLIGHT
BEGIN:STANDARD
TZOFFSETFROM:+0200
TZOFFSETTO:+0100
TZNAME:CET
DTSTART:20271031T010000
END:STANDARD
BEGIN:DAYLIGHT
TZOFFSETFROM:+0100
TZOFFSETTO:+0200
TZNAME:CEST
DTSTART:20280326T010000
END:DAYLIGHT
BEGIN:STANDARD
TZOFFSETFROM:+0200
TZOFFSETTO:+0100
TZNAME:CET
DTSTART:20281029T010000
END:STANDARD
END:VTIMEZONE
BEGIN:VEVENT
DTSTART;TZID=Europe/Berlin:20271018T080000
DTEND;TZID=Europe/Berlin:20271022T170000
DTSTAMP:20260419T203734
CREATED:20260113T133948Z
LAST-MODIFIED:20260113T133948Z
UID:9816-1823846400-1824224400@heideranch.de
SUMMARY:Ferienspiele auf der Heide Ranch (alle Infos unter Kinderspaß / Ferienspiele\, Anmeldung per Mail erforderlich)
DESCRIPTION:
URL:https://heideranch.de/event/ferienspiele-auf-der-heide-ranch-alle-infos-unter-kinderspass-ferienspiele-anmeldung-per-mail-erforderlich-17/
CATEGORIES:Ferienspiele
END:VEVENT
END:VCALENDAR