BEGIN:VCALENDAR
VERSION:2.0
PRODID:-//Heideranch Pferde Pension Saloon - ECPv6.15.20//NONSGML v1.0//EN
CALSCALE:GREGORIAN
METHOD:PUBLISH
X-ORIGINAL-URL:https://heideranch.de
X-WR-CALDESC:Veranstaltungen für Heideranch Pferde Pension Saloon
REFRESH-INTERVAL;VALUE=DURATION:PT1H
X-Robots-Tag:noindex
X-PUBLISHED-TTL:PT1H
BEGIN:VTIMEZONE
TZID:Europe/Berlin
BEGIN:DAYLIGHT
TZOFFSETFROM:+0100
TZOFFSETTO:+0200
TZNAME:CEST
DTSTART:20260329T010000
END:DAYLIGHT
BEGIN:STANDARD
TZOFFSETFROM:+0200
TZOFFSETTO:+0100
TZNAME:CET
DTSTART:20261025T010000
END:STANDARD
BEGIN:DAYLIGHT
TZOFFSETFROM:+0100
TZOFFSETTO:+0200
TZNAME:CEST
DTSTART:20270328T010000
END:DAYLIGHT
BEGIN:STANDARD
TZOFFSETFROM:+0200
TZOFFSETTO:+0100
TZNAME:CET
DTSTART:20271031T010000
END:STANDARD
BEGIN:DAYLIGHT
TZOFFSETFROM:+0100
TZOFFSETTO:+0200
TZNAME:CEST
DTSTART:20280326T010000
END:DAYLIGHT
BEGIN:STANDARD
TZOFFSETFROM:+0200
TZOFFSETTO:+0100
TZNAME:CET
DTSTART:20281029T010000
END:STANDARD
END:VTIMEZONE
BEGIN:VEVENT
DTSTART;TZID=Europe/Berlin:20270802T080000
DTEND;TZID=Europe/Berlin:20270806T160000
DTSTAMP:20260419T170945
CREATED:20260113T133812Z
LAST-MODIFIED:20260113T133812Z
UID:9812-1817193600-1817568000@heideranch.de
SUMMARY:Ferienspiele auf der Heide Ranch (alle Infos unter Kinderspaß / Ferienspiele\, Anmeldung per Mail erforderlich)
DESCRIPTION:
URL:https://heideranch.de/event/ferienspiele-auf-der-heide-ranch-alle-infos-unter-kinderspass-ferienspiele-anmeldung-per-mail-erforderlich-15/
CATEGORIES:Ferienspiele
END:VEVENT
BEGIN:VEVENT
DTSTART;TZID=Europe/Berlin:20270813T130000
DTEND;TZID=Europe/Berlin:20270815T110000
DTSTAMP:20260419T170945
CREATED:20250728T074529Z
LAST-MODIFIED:20251009T071124Z
UID:9235-1818162000-1818327600@heideranch.de
SUMMARY:Reiterstübchen belegt v. Fr. 13.00 b. So. 11.00 Uhr (Ant. Ebe. HR 0168-25)
DESCRIPTION:
URL:https://heideranch.de/event/anfr-reiterstuebchen-v-fr-13-00-b-so-11-00-uhr-ant-ebe-besicht-03-09-25/
CATEGORIES:Partyraum
END:VEVENT
BEGIN:VEVENT
DTSTART;TZID=Europe/Berlin:20270816T080000
DTEND;TZID=Europe/Berlin:20270820T160000
DTSTAMP:20260419T170945
CREATED:20260113T133848Z
LAST-MODIFIED:20260113T133848Z
UID:9814-1818403200-1818777600@heideranch.de
SUMMARY:Ferienspiele auf der Heide Ranch (alle Infos unter Kinderspaß / Ferienspiele\, Anmeldung per Mail erforderlich)
DESCRIPTION:
URL:https://heideranch.de/event/ferienspiele-auf-der-heide-ranch-alle-infos-unter-kinderspass-ferienspiele-anmeldung-per-mail-erforderlich-16/
CATEGORIES:Ferienspiele
END:VEVENT
BEGIN:VEVENT
DTSTART;TZID=Europe/Berlin:20270821T080000
DTEND;TZID=Europe/Berlin:20270822T110000
DTSTAMP:20260419T170945
CREATED:20230208T082151Z
LAST-MODIFIED:20250728T075317Z
UID:5802-1818835200-1818932400@heideranch.de
SUMMARY:Partyraum "Alter Stall" belegt (Nat. Mei. HR 0050-25 Tag der Einschulung)
DESCRIPTION:
URL:https://heideranch.de/event/partyraum-alter-stall-frei-nicht-belegt-tag-der-einschulung-2/
CATEGORIES:Partyraum
END:VEVENT
BEGIN:VEVENT
DTSTART;TZID=Europe/Berlin:20270821T080000
DTEND;TZID=Europe/Berlin:20270822T110000
DTSTAMP:20260419T170945
CREATED:20230208T083108Z
LAST-MODIFIED:20250124T145900Z
UID:5811-1818835200-1818932400@heideranch.de
SUMMARY:Partyraum "Reiterstübchen" belegt (Nad. Gro. Tag der Einschulung HR 0120-24)
DESCRIPTION:
URL:https://heideranch.de/event/partyraum-reiterstuebchen-frei-nicht-belegt-tag-der-einschulung/
CATEGORIES:Partyraum
END:VEVENT
BEGIN:VEVENT
DTSTART;TZID=Europe/Berlin:20270828T100000
DTEND;TZID=Europe/Berlin:20270828T140000
DTSTAMP:20260419T170945
CREATED:20260205T085359Z
LAST-MODIFIED:20260205T085359Z
UID:9914-1819447200-1819461600@heideranch.de
SUMMARY:KiGe Programm ohne Essen (6 Ki.\, 2 Pf.\, 4 Std.!) mit ? u. ?
DESCRIPTION:
URL:https://heideranch.de/event/kige-programm-ohne-essen-6-ki-2-pf-4-std-mit-u/
CATEGORIES:Kindergeburtstag
END:VEVENT
BEGIN:VEVENT
DTSTART;TZID=Europe/Berlin:20270828T100000
DTEND;TZID=Europe/Berlin:20270828T170000
DTSTAMP:20260419T170945
CREATED:20260203T151402Z
LAST-MODIFIED:20260311T210347Z
UID:9911-1819447200-1819472400@heideranch.de
SUMMARY:Reiterstübchen + HB belegt v. Sa. 10.00 b. 17.00 Uhr (Stef. Frel. HR 026-26)
DESCRIPTION:
URL:https://heideranch.de/event/anfr-reiterstuebchen-v-sa-10-00-b-17-00-uhr-stef-frel-hr-026-26/
CATEGORIES:Partyraum
END:VEVENT
END:VCALENDAR